BEGIN:VCALENDAR
VERSION:2.0
PRODID:-//Utvecklingspartiet - ECPv6.15.17.1//NONSGML v1.0//EN
CALSCALE:GREGORIAN
METHOD:PUBLISH
X-WR-CALNAME:Utvecklingspartiet
X-ORIGINAL-URL:https://www.utvecklingspartiet.se
X-WR-CALDESC:Händelser för Utvecklingspartiet
REFRESH-INTERVAL;VALUE=DURATION:PT1H
X-Robots-Tag:noindex
X-PUBLISHED-TTL:PT1H
BEGIN:VTIMEZONE
TZID:Europe/Stockholm
BEGIN:DAYLIGHT
TZOFFSETFROM:+0100
TZOFFSETTO:+0200
TZNAME:CEST
DTSTART:20250330T010000
END:DAYLIGHT
BEGIN:STANDARD
TZOFFSETFROM:+0200
TZOFFSETTO:+0100
TZNAME:CET
DTSTART:20251026T010000
END:STANDARD
BEGIN:DAYLIGHT
TZOFFSETFROM:+0100
TZOFFSETTO:+0200
TZNAME:CEST
DTSTART:20260329T010000
END:DAYLIGHT
BEGIN:STANDARD
TZOFFSETFROM:+0200
TZOFFSETTO:+0100
TZNAME:CET
DTSTART:20261025T010000
END:STANDARD
BEGIN:DAYLIGHT
TZOFFSETFROM:+0100
TZOFFSETTO:+0200
TZNAME:CEST
DTSTART:20270328T010000
END:DAYLIGHT
BEGIN:STANDARD
TZOFFSETFROM:+0200
TZOFFSETTO:+0100
TZNAME:CET
DTSTART:20271031T010000
END:STANDARD
END:VTIMEZONE
BEGIN:VEVENT
DTSTART;TZID=Europe/Stockholm:20260602T180000
DTEND;TZID=Europe/Stockholm:20260602T200000
DTSTAMP:20260424T154154
CREATED:20260421T111326Z
LAST-MODIFIED:20260421T112624Z
UID:2751-1780423200-1780430400@www.utvecklingspartiet.se
SUMMARY:Medlemsmöte i stadshuset
DESCRIPTION:
URL:https://www.utvecklingspartiet.se/event/medlemsmote-i-stadshuset-6/
LOCATION:Stadshuset
CATEGORIES:Medlemsmöte
END:VEVENT
BEGIN:VEVENT
DTSTART;TZID=Europe/Stockholm:20260603T090000
DTEND;TZID=Europe/Stockholm:20260603T160000
DTSTAMP:20260424T154154
CREATED:20260421T104514Z
LAST-MODIFIED:20260421T104514Z
UID:2707-1780477200-1780502400@www.utvecklingspartiet.se
SUMMARY:Kommunstyrelsen
DESCRIPTION:
URL:https://www.utvecklingspartiet.se/event/kommunstyrelsen-15/
LOCATION:Stadshuset
CATEGORIES:Kommunfullmäktige
END:VEVENT
BEGIN:VEVENT
DTSTART;TZID=Europe/Stockholm:20260611T170000
DTEND;TZID=Europe/Stockholm:20260611T220000
DTSTAMP:20260424T154154
CREATED:20260421T110135Z
LAST-MODIFIED:20260421T110135Z
UID:2737-1781197200-1781215200@www.utvecklingspartiet.se
SUMMARY:Kommunfullmäktige
DESCRIPTION:
URL:https://www.utvecklingspartiet.se/event/kommunfullmaktige-14/
LOCATION:Stadshuset
CATEGORIES:Kommunfullmäktige
END:VEVENT
END:VCALENDAR