BEGIN:VCALENDAR
VERSION:2.0
PRODID:-//Utvecklingspartiet - ECPv6.15.17.1//NONSGML v1.0//EN
CALSCALE:GREGORIAN
METHOD:PUBLISH
X-ORIGINAL-URL:https://www.utvecklingspartiet.se
X-WR-CALDESC:Händelser för Utvecklingspartiet
REFRESH-INTERVAL;VALUE=DURATION:PT1H
X-Robots-Tag:noindex
X-PUBLISHED-TTL:PT1H
BEGIN:VTIMEZONE
TZID:Europe/Stockholm
BEGIN:DAYLIGHT
TZOFFSETFROM:+0100
TZOFFSETTO:+0200
TZNAME:CEST
DTSTART:20250330T010000
END:DAYLIGHT
BEGIN:STANDARD
TZOFFSETFROM:+0200
TZOFFSETTO:+0100
TZNAME:CET
DTSTART:20251026T010000
END:STANDARD
BEGIN:DAYLIGHT
TZOFFSETFROM:+0100
TZOFFSETTO:+0200
TZNAME:CEST
DTSTART:20260329T010000
END:DAYLIGHT
BEGIN:STANDARD
TZOFFSETFROM:+0200
TZOFFSETTO:+0100
TZNAME:CET
DTSTART:20261025T010000
END:STANDARD
BEGIN:DAYLIGHT
TZOFFSETFROM:+0100
TZOFFSETTO:+0200
TZNAME:CEST
DTSTART:20270328T010000
END:DAYLIGHT
BEGIN:STANDARD
TZOFFSETFROM:+0200
TZOFFSETTO:+0100
TZNAME:CET
DTSTART:20271031T010000
END:STANDARD
END:VTIMEZONE
BEGIN:VEVENT
DTSTART;TZID=Europe/Stockholm:20260501T110000
DTEND;TZID=Europe/Stockholm:20260501T130000
DTSTAMP:20260424T141756
CREATED:20260422T055919Z
LAST-MODIFIED:20260422T055919Z
UID:2774-1777633200-1777640400@www.utvecklingspartiet.se
SUMMARY:Politisk information (information om plats kommer)
DESCRIPTION:
URL:https://www.utvecklingspartiet.se/event/politisk-information-information-om-plats-kommer/
CATEGORIES:Val 2026
END:VEVENT
BEGIN:VEVENT
DTSTART;TZID=Europe/Stockholm:20260507T170000
DTEND;TZID=Europe/Stockholm:20260507T220000
DTSTAMP:20260424T141756
CREATED:20260421T105734Z
LAST-MODIFIED:20260421T105734Z
UID:2733-1778173200-1778191200@www.utvecklingspartiet.se
SUMMARY:Kommunfullmäktige
DESCRIPTION:
URL:https://www.utvecklingspartiet.se/event/kommunfullmaktige-13/
LOCATION:Stadshuset
CATEGORIES:Kommunfullmäktige
END:VEVENT
BEGIN:VEVENT
DTSTART;TZID=Europe/Stockholm:20260509T100000
DTEND;TZID=Europe/Stockholm:20260509T150000
DTSTAMP:20260424T141756
CREATED:20260422T061125Z
LAST-MODIFIED:20260422T061125Z
UID:2780-1778320800-1778338800@www.utvecklingspartiet.se
SUMMARY:Politisk information
DESCRIPTION:
URL:https://www.utvecklingspartiet.se/event/politisk-information/
LOCATION:Västra Parken\, Uddevallavägen 2\, Kungälv\, Sweden
CATEGORIES:Val 2026
END:VEVENT
BEGIN:VEVENT
DTSTART;TZID=Europe/Stockholm:20260509T160000
DTEND;TZID=Europe/Stockholm:20260509T180000
DTSTAMP:20260424T141756
CREATED:20260422T060335Z
LAST-MODIFIED:20260422T060335Z
UID:2776-1778342400-1778349600@www.utvecklingspartiet.se
SUMMARY:Politisk AW
DESCRIPTION:
URL:https://www.utvecklingspartiet.se/event/politisk-aw/
LOCATION:Juliet Creperie och Bistro\, Strandgatan 62\, Kungälv\, Sweden
CATEGORIES:Val 2026
END:VEVENT
BEGIN:VEVENT
DTSTART;TZID=Europe/Stockholm:20260510T100000
DTEND;TZID=Europe/Stockholm:20260510T150000
DTSTAMP:20260424T141756
CREATED:20260422T062716Z
LAST-MODIFIED:20260422T062716Z
UID:2783-1778407200-1778425200@www.utvecklingspartiet.se
SUMMARY:Demokratidagen
DESCRIPTION:
URL:https://www.utvecklingspartiet.se/event/demokratidagen/
LOCATION:Stadshuset
CATEGORIES:Val 2026
END:VEVENT
BEGIN:VEVENT
DTSTART;TZID=Europe/Stockholm:20260512T180000
DTEND;TZID=Europe/Stockholm:20260512T200000
DTSTAMP:20260424T141756
CREATED:20260421T111246Z
LAST-MODIFIED:20260421T112449Z
UID:2749-1778608800-1778616000@www.utvecklingspartiet.se
SUMMARY:Medlemsmöte i stadshuset
DESCRIPTION:
URL:https://www.utvecklingspartiet.se/event/medlemsmote-i-stadshuset-5/
LOCATION:Stadshuset
CATEGORIES:Medlemsmöte
END:VEVENT
BEGIN:VEVENT
DTSTART;TZID=Europe/Stockholm:20260513T090000
DTEND;TZID=Europe/Stockholm:20260513T160000
DTSTAMP:20260424T141756
CREATED:20260421T104413Z
LAST-MODIFIED:20260421T104413Z
UID:2705-1778662800-1778688000@www.utvecklingspartiet.se
SUMMARY:Kommunstyrelsen
DESCRIPTION:
URL:https://www.utvecklingspartiet.se/event/kommunstyrelsen-14/
CATEGORIES:Kommunstyrelsen
END:VEVENT
BEGIN:VEVENT
DTSTART;TZID=Europe/Stockholm:20260523T150000
DTEND;TZID=Europe/Stockholm:20260523T170000
DTSTAMP:20260424T141756
CREATED:20260422T071941Z
LAST-MODIFIED:20260422T071941Z
UID:2786-1779548400-1779555600@www.utvecklingspartiet.se
SUMMARY:Politisk information (Kungälvs Crusingen)
DESCRIPTION:
URL:https://www.utvecklingspartiet.se/event/politisk-information-kungalvs-crusingen/
CATEGORIES:Val 2026
END:VEVENT
END:VCALENDAR