BEGIN:VCALENDAR
VERSION:2.0
PRODID:-//Utvecklingspartiet - ECPv6.15.17.1//NONSGML v1.0//EN
CALSCALE:GREGORIAN
METHOD:PUBLISH
X-WR-CALNAME:Utvecklingspartiet
X-ORIGINAL-URL:https://www.utvecklingspartiet.se
X-WR-CALDESC:Händelser för Utvecklingspartiet
REFRESH-INTERVAL;VALUE=DURATION:PT1H
X-Robots-Tag:noindex
X-PUBLISHED-TTL:PT1H
BEGIN:VTIMEZONE
TZID:Europe/Stockholm
BEGIN:DAYLIGHT
TZOFFSETFROM:+0100
TZOFFSETTO:+0200
TZNAME:CEST
DTSTART:20170326T010000
END:DAYLIGHT
BEGIN:STANDARD
TZOFFSETFROM:+0200
TZOFFSETTO:+0100
TZNAME:CET
DTSTART:20171029T010000
END:STANDARD
BEGIN:DAYLIGHT
TZOFFSETFROM:+0100
TZOFFSETTO:+0200
TZNAME:CEST
DTSTART:20180325T010000
END:DAYLIGHT
BEGIN:STANDARD
TZOFFSETFROM:+0200
TZOFFSETTO:+0100
TZNAME:CET
DTSTART:20181028T010000
END:STANDARD
BEGIN:DAYLIGHT
TZOFFSETFROM:+0100
TZOFFSETTO:+0200
TZNAME:CEST
DTSTART:20190331T010000
END:DAYLIGHT
BEGIN:STANDARD
TZOFFSETFROM:+0200
TZOFFSETTO:+0100
TZNAME:CET
DTSTART:20191027T010000
END:STANDARD
BEGIN:DAYLIGHT
TZOFFSETFROM:+0100
TZOFFSETTO:+0200
TZNAME:CEST
DTSTART:20200329T010000
END:DAYLIGHT
BEGIN:STANDARD
TZOFFSETFROM:+0200
TZOFFSETTO:+0100
TZNAME:CET
DTSTART:20201025T010000
END:STANDARD
END:VTIMEZONE
BEGIN:VEVENT
DTSTART;TZID=Europe/Stockholm:20190226T180000
DTEND;TZID=Europe/Stockholm:20190226T200000
DTSTAMP:20260421T072755
CREATED:20190130T173510Z
LAST-MODIFIED:20190130T173510Z
UID:1787-1551204000-1551211200@www.utvecklingspartiet.se
SUMMARY:Öppet månadsmöte 18–20 i Stadshuset. Välkomna!
DESCRIPTION:
URL:https://www.utvecklingspartiet.se/event/oppet-manadsmote-18-20-i-stadshuset-valkomna-5/
END:VEVENT
BEGIN:VEVENT
DTSTART;TZID=Europe/Stockholm:20190220T090000
DTEND;TZID=Europe/Stockholm:20190220T170000
DTSTAMP:20260421T072755
CREATED:20190114T203442Z
LAST-MODIFIED:20190114T203442Z
UID:1758-1550653200-1550682000@www.utvecklingspartiet.se
SUMMARY:KS
DESCRIPTION:
URL:https://www.utvecklingspartiet.se/event/ks-17/
END:VEVENT
BEGIN:VEVENT
DTSTART;TZID=Europe/Stockholm:20190219T170000
DTEND;TZID=Europe/Stockholm:20190219T210000
DTSTAMP:20260421T072755
CREATED:20190114T202834Z
LAST-MODIFIED:20190114T202834Z
UID:1738-1550595600-1550610000@www.utvecklingspartiet.se
SUMMARY:KF
DESCRIPTION:
URL:https://www.utvecklingspartiet.se/event/kf-10/
END:VEVENT
BEGIN:VEVENT
DTSTART;TZID=Europe/Stockholm:20190129T180000
DTEND;TZID=Europe/Stockholm:20190129T200000
DTSTAMP:20260421T072755
CREATED:20190114T202436Z
LAST-MODIFIED:20190114T202436Z
UID:1736-1548784800-1548792000@www.utvecklingspartiet.se
SUMMARY:Öppet månadsmöte 18–20 i Stadshuset. Välkomna!
DESCRIPTION:
URL:https://www.utvecklingspartiet.se/event/oppet-manadsmote-18-20-i-stadshuset-valkomna-4/
END:VEVENT
BEGIN:VEVENT
DTSTART;TZID=Europe/Stockholm:20190109T090000
DTEND;TZID=Europe/Stockholm:20190109T170000
DTSTAMP:20260421T072755
CREATED:20190114T203411Z
LAST-MODIFIED:20190114T203411Z
UID:1756-1547024400-1547053200@www.utvecklingspartiet.se
SUMMARY:KS
DESCRIPTION:
URL:https://www.utvecklingspartiet.se/event/ks-16/
END:VEVENT
BEGIN:VEVENT
DTSTART;TZID=Europe/Stockholm:20181213T170000
DTEND;TZID=Europe/Stockholm:20181213T210000
DTSTAMP:20260421T072755
CREATED:20180222T214509Z
LAST-MODIFIED:20180222T214509Z
UID:611-1544720400-1544734800@www.utvecklingspartiet.se
SUMMARY:KF
DESCRIPTION:
URL:https://www.utvecklingspartiet.se/event/kf-8/
LOCATION:Stadshuset
END:VEVENT
BEGIN:VEVENT
DTSTART;TZID=Europe/Stockholm:20181212T090000
DTEND;TZID=Europe/Stockholm:20181212T170000
DTSTAMP:20260421T072755
CREATED:20180222T215655Z
LAST-MODIFIED:20180222T215655Z
UID:642-1544605200-1544634000@www.utvecklingspartiet.se
SUMMARY:KS
DESCRIPTION:
URL:https://www.utvecklingspartiet.se/event/ks-13/
LOCATION:Stadshuset
END:VEVENT
BEGIN:VEVENT
DTSTART;TZID=Europe/Stockholm:20181206T170000
DTEND;TZID=Europe/Stockholm:20181206T200000
DTSTAMP:20260421T072755
CREATED:20181010T101613Z
LAST-MODIFIED:20181010T101613Z
UID:1708-1544115600-1544126400@www.utvecklingspartiet.se
SUMMARY:KF inklusive personval för 2019-2022
DESCRIPTION:Samtliga personval till den nya politiska organisationen görs. Den nya organisationen träder i kraft den 1 januari 2019.
URL:https://www.utvecklingspartiet.se/event/kf-inklusive-personval-for-2019-2022/
LOCATION:Stadshuset
END:VEVENT
BEGIN:VEVENT
DTSTART;TZID=Europe/Stockholm:20181127T180000
DTEND;TZID=Europe/Stockholm:20181127T200000
DTSTAMP:20260421T072755
CREATED:20180405T131312Z
LAST-MODIFIED:20180405T131312Z
UID:1567-1543341600-1543348800@www.utvecklingspartiet.se
SUMMARY:Öppet månadsmöte 18–20 i Stadshuset. Välkomna!
DESCRIPTION:
URL:https://www.utvecklingspartiet.se/event/oppet-manadsmote-18-20-i-stadshuset-valkomna-3/
END:VEVENT
BEGIN:VEVENT
DTSTART;TZID=Europe/Stockholm:20181121T090000
DTEND;TZID=Europe/Stockholm:20181121T170000
DTSTAMP:20260421T072755
CREATED:20180222T215630Z
LAST-MODIFIED:20180222T215630Z
UID:640-1542790800-1542819600@www.utvecklingspartiet.se
SUMMARY:KS
DESCRIPTION:
URL:https://www.utvecklingspartiet.se/event/ks-12/
LOCATION:Stadshuset
END:VEVENT
BEGIN:VEVENT
DTSTART;TZID=Europe/Stockholm:20181114T090000
DTEND;TZID=Europe/Stockholm:20181114T170000
DTSTAMP:20260421T072755
CREATED:20180222T215556Z
LAST-MODIFIED:20180222T215556Z
UID:638-1542186000-1542214800@www.utvecklingspartiet.se
SUMMARY:KS
DESCRIPTION:
URL:https://www.utvecklingspartiet.se/event/ks-11/
LOCATION:Stadshuset
END:VEVENT
BEGIN:VEVENT
DTSTART;TZID=Europe/Stockholm:20181108T170000
DTEND;TZID=Europe/Stockholm:20181108T210000
DTSTAMP:20260421T072755
CREATED:20180222T214411Z
LAST-MODIFIED:20180222T214411Z
UID:609-1541696400-1541710800@www.utvecklingspartiet.se
SUMMARY:KF
DESCRIPTION:
URL:https://www.utvecklingspartiet.se/event/kf-7/
LOCATION:Stadshuset
END:VEVENT
BEGIN:VEVENT
DTSTART;TZID=Europe/Stockholm:20181101T170000
DTEND;TZID=Europe/Stockholm:20181101T180000
DTSTAMP:20260421T072755
CREATED:20181010T101203Z
LAST-MODIFIED:20181010T101203Z
UID:1706-1541091600-1541095200@www.utvecklingspartiet.se
SUMMARY:Konstituerande KF inför 2019
DESCRIPTION:Val av KF presidiet för 2019 samt KF valberedning (inklusive presidiet)
URL:https://www.utvecklingspartiet.se/event/konstituerande-kf-infor-2019/
LOCATION:Stadshuset
END:VEVENT
BEGIN:VEVENT
DTSTART;TZID=Europe/Stockholm:20181030T180000
DTEND;TZID=Europe/Stockholm:20181030T200000
DTSTAMP:20260421T072755
CREATED:20180405T131213Z
LAST-MODIFIED:20180405T131213Z
UID:1565-1540922400-1540929600@www.utvecklingspartiet.se
SUMMARY:Öppet månadsmöte 18–20 i Stadshuset. Välkomna!
DESCRIPTION:
URL:https://www.utvecklingspartiet.se/event/oppet-manadsmote-18-20-i-stadshuset-valkomna-2/
END:VEVENT
BEGIN:VEVENT
DTSTART;TZID=Europe/Stockholm:20181010T090000
DTEND;TZID=Europe/Stockholm:20181010T170000
DTSTAMP:20260421T072755
CREATED:20180222T215525Z
LAST-MODIFIED:20180222T215525Z
UID:636-1539162000-1539190800@www.utvecklingspartiet.se
SUMMARY:KS
DESCRIPTION:
URL:https://www.utvecklingspartiet.se/event/ks-10/
LOCATION:Stadshuset
END:VEVENT
BEGIN:VEVENT
DTSTART;TZID=Europe/Stockholm:20181004T170000
DTEND;TZID=Europe/Stockholm:20181004T210000
DTSTAMP:20260421T072755
CREATED:20180222T214322Z
LAST-MODIFIED:20180222T214322Z
UID:607-1538672400-1538686800@www.utvecklingspartiet.se
SUMMARY:KF
DESCRIPTION:
URL:https://www.utvecklingspartiet.se/event/kf-6/
LOCATION:Stadshuset
END:VEVENT
BEGIN:VEVENT
DTSTART;TZID=Europe/Stockholm:20180926T090000
DTEND;TZID=Europe/Stockholm:20180926T170000
DTSTAMP:20260421T072755
CREATED:20180222T215413Z
LAST-MODIFIED:20180222T215413Z
UID:633-1537952400-1537981200@www.utvecklingspartiet.se
SUMMARY:KS
DESCRIPTION:
URL:https://www.utvecklingspartiet.se/event/ks-9/
LOCATION:Stadshuset
END:VEVENT
BEGIN:VEVENT
DTSTART;TZID=Europe/Stockholm:20180925T180000
DTEND;TZID=Europe/Stockholm:20180925T200000
DTSTAMP:20260421T072755
CREATED:20180405T131121Z
LAST-MODIFIED:20180405T131121Z
UID:1563-1537898400-1537905600@www.utvecklingspartiet.se
SUMMARY:Öppet månadsmöte 18–20 i Stadshuset. Välkomna!
DESCRIPTION:
URL:https://www.utvecklingspartiet.se/event/oppet-manadsmote-18-20-i-stadshuset-valkomna/
END:VEVENT
BEGIN:VEVENT
DTSTART;TZID=Europe/Stockholm:20180912T090000
DTEND;TZID=Europe/Stockholm:20180912T170000
DTSTAMP:20260421T072755
CREATED:20180222T215327Z
LAST-MODIFIED:20180222T215327Z
UID:631-1536742800-1536771600@www.utvecklingspartiet.se
SUMMARY:KS
DESCRIPTION:
URL:https://www.utvecklingspartiet.se/event/ks-8/
LOCATION:Stadshuset
END:VEVENT
BEGIN:VEVENT
DTSTART;VALUE=DATE:20180909
DTEND;VALUE=DATE:20180910
DTSTAMP:20260421T072755
CREATED:20180206T085133Z
LAST-MODIFIED:20180206T085133Z
UID:447-1536451200-1536537599@www.utvecklingspartiet.se
SUMMARY:Valdag
DESCRIPTION:
URL:https://www.utvecklingspartiet.se/event/valdag/
END:VEVENT
BEGIN:VEVENT
DTSTART;TZID=Europe/Stockholm:20180908T100000
DTEND;TZID=Europe/Stockholm:20180908T160000
DTSTAMP:20260421T072755
CREATED:20180804T123527Z
LAST-MODIFIED:20180804T123556Z
UID:1667-1536400800-1536422400@www.utvecklingspartiet.se
SUMMARY:Kungälvsmässan 10-16
DESCRIPTION:
URL:https://www.utvecklingspartiet.se/event/kungalvsmassan-3/
END:VEVENT
BEGIN:VEVENT
DTSTART;TZID=Europe/Stockholm:20180907T120000
DTEND;TZID=Europe/Stockholm:20180907T190000
DTSTAMP:20260421T072755
CREATED:20180804T123450Z
LAST-MODIFIED:20180804T123656Z
UID:1665-1536321600-1536346800@www.utvecklingspartiet.se
SUMMARY:Kungälvsmässan 12-19
DESCRIPTION:
URL:https://www.utvecklingspartiet.se/event/kungalvsmassan-2/
END:VEVENT
BEGIN:VEVENT
DTSTART;TZID=Europe/Stockholm:20180906T170000
DTEND;TZID=Europe/Stockholm:20180906T210000
DTSTAMP:20260421T072755
CREATED:20180222T214221Z
LAST-MODIFIED:20180222T214221Z
UID:604-1536253200-1536267600@www.utvecklingspartiet.se
SUMMARY:KF
DESCRIPTION:
URL:https://www.utvecklingspartiet.se/event/kf-5/
LOCATION:Stadshuset
END:VEVENT
BEGIN:VEVENT
DTSTART;TZID=Europe/Stockholm:20180906T120000
DTEND;TZID=Europe/Stockholm:20180906T120000
DTSTAMP:20260421T072755
CREATED:20180206T085108Z
LAST-MODIFIED:20180804T123628Z
UID:444-1536235200-1536235200@www.utvecklingspartiet.se
SUMMARY:Kungälvsmässan 12-18
DESCRIPTION:
URL:https://www.utvecklingspartiet.se/event/kungalvsmassan/
LOCATION:Mimers Hus
END:VEVENT
BEGIN:VEVENT
DTSTART;TZID=Europe/Stockholm:20180901T110000
DTEND;TZID=Europe/Stockholm:20180901T153000
DTSTAMP:20260421T072755
CREATED:20180804T123242Z
LAST-MODIFIED:20180804T123242Z
UID:1662-1535799600-1535815800@www.utvecklingspartiet.se
SUMMARY:Tältkampanj - Marstrand/Tjuvkil/Hålta 11-15.30
DESCRIPTION:
URL:https://www.utvecklingspartiet.se/event/taltkampanj-marstrand-tjuvkil-halta-11-15-30/
END:VEVENT
BEGIN:VEVENT
DTSTART;VALUE=DATE:20180901
DTEND;VALUE=DATE:20180902
DTSTAMP:20260421T072755
CREATED:20180221T231319Z
LAST-MODIFIED:20180221T231319Z
UID:578-1535760000-1535846399@www.utvecklingspartiet.se
SUMMARY:Fästning i rök
DESCRIPTION:
URL:https://www.utvecklingspartiet.se/event/fastning-i-rok/
LOCATION:Bohus Fästning
END:VEVENT
BEGIN:VEVENT
DTSTART;TZID=Europe/Stockholm:20180828T180000
DTEND;TZID=Europe/Stockholm:20180828T200000
DTSTAMP:20260421T072755
CREATED:20180206T084642Z
LAST-MODIFIED:20180206T084642Z
UID:434-1535479200-1535486400@www.utvecklingspartiet.se
SUMMARY:Öppet månadsmöte 18–20 i Stadshuset. Välkomna!
DESCRIPTION:
URL:https://www.utvecklingspartiet.se/event/oppet-manadsmote-7/
LOCATION:Stadshuset
END:VEVENT
BEGIN:VEVENT
DTSTART;TZID=Europe/Stockholm:20180825T110000
DTEND;TZID=Europe/Stockholm:20180825T153000
DTSTAMP:20260421T072755
CREATED:20180802T090815Z
LAST-MODIFIED:20180802T090815Z
UID:1658-1535194800-1535211000@www.utvecklingspartiet.se
SUMMARY:Tältkampanj - Kungälv 11-13 & Ytterby 13.30-15.30
DESCRIPTION:
URL:https://www.utvecklingspartiet.se/event/taltkampanj-kungalv-11-13-ytterby-13-30-15-30/
END:VEVENT
BEGIN:VEVENT
DTSTART;TZID=Europe/Stockholm:20180822T170000
DTEND;TZID=Europe/Stockholm:20180822T190000
DTSTAMP:20260421T072755
CREATED:20180823T163624Z
LAST-MODIFIED:20180823T163624Z
UID:1683-1534957200-1534964400@www.utvecklingspartiet.se
SUMMARY:Tältkampanj Kode 17-19!
DESCRIPTION:
URL:https://www.utvecklingspartiet.se/event/taltkampanj-kode-17-19/
END:VEVENT
BEGIN:VEVENT
DTSTART;VALUE=DATE:20180822
DTEND;VALUE=DATE:20180909
DTSTAMP:20260421T072755
CREATED:20180221T231535Z
LAST-MODIFIED:20180221T231535Z
UID:581-1534896000-1536451199@www.utvecklingspartiet.se
SUMMARY:Förtidsröstning
DESCRIPTION:
URL:https://www.utvecklingspartiet.se/event/fortidsrostning/
END:VEVENT
END:VCALENDAR