BEGIN:VCALENDAR
VERSION:2.0
PRODID:-//Utvecklingspartiet - ECPv6.15.17.1//NONSGML v1.0//EN
CALSCALE:GREGORIAN
METHOD:PUBLISH
X-ORIGINAL-URL:https://www.utvecklingspartiet.se
X-WR-CALDESC:Händelser för Utvecklingspartiet
REFRESH-INTERVAL;VALUE=DURATION:PT1H
X-Robots-Tag:noindex
X-PUBLISHED-TTL:PT1H
BEGIN:VTIMEZONE
TZID:Europe/Stockholm
BEGIN:DAYLIGHT
TZOFFSETFROM:+0100
TZOFFSETTO:+0200
TZNAME:CEST
DTSTART:20170326T010000
END:DAYLIGHT
BEGIN:STANDARD
TZOFFSETFROM:+0200
TZOFFSETTO:+0100
TZNAME:CET
DTSTART:20171029T010000
END:STANDARD
BEGIN:DAYLIGHT
TZOFFSETFROM:+0100
TZOFFSETTO:+0200
TZNAME:CEST
DTSTART:20180325T010000
END:DAYLIGHT
BEGIN:STANDARD
TZOFFSETFROM:+0200
TZOFFSETTO:+0100
TZNAME:CET
DTSTART:20181028T010000
END:STANDARD
BEGIN:DAYLIGHT
TZOFFSETFROM:+0100
TZOFFSETTO:+0200
TZNAME:CEST
DTSTART:20190331T010000
END:DAYLIGHT
BEGIN:STANDARD
TZOFFSETFROM:+0200
TZOFFSETTO:+0100
TZNAME:CET
DTSTART:20191027T010000
END:STANDARD
BEGIN:DAYLIGHT
TZOFFSETFROM:+0100
TZOFFSETTO:+0200
TZNAME:CEST
DTSTART:20200329T010000
END:DAYLIGHT
BEGIN:STANDARD
TZOFFSETFROM:+0200
TZOFFSETTO:+0100
TZNAME:CET
DTSTART:20201025T010000
END:STANDARD
END:VTIMEZONE
BEGIN:VEVENT
DTSTART;TZID=Europe/Stockholm:20191113T090000
DTEND;TZID=Europe/Stockholm:20191113T170000
DTSTAMP:20260421T033630
CREATED:20190114T204007Z
LAST-MODIFIED:20190114T204007Z
UID:1778-1573635600-1573664400@www.utvecklingspartiet.se
SUMMARY:KS
DESCRIPTION:
URL:https://www.utvecklingspartiet.se/event/ks-27/
END:VEVENT
BEGIN:VEVENT
DTSTART;TZID=Europe/Stockholm:20191107T170000
DTEND;TZID=Europe/Stockholm:20191107T200000
DTSTAMP:20260421T033630
CREATED:20190114T203306Z
LAST-MODIFIED:20190114T203306Z
UID:1752-1573146000-1573156800@www.utvecklingspartiet.se
SUMMARY:KF
DESCRIPTION:
URL:https://www.utvecklingspartiet.se/event/kf-17/
END:VEVENT
BEGIN:VEVENT
DTSTART;TZID=Europe/Stockholm:20191029T180000
DTEND;TZID=Europe/Stockholm:20191029T200000
DTSTAMP:20260421T033630
CREATED:20190130T173831Z
LAST-MODIFIED:20190901T184254Z
UID:1797-1572372000-1572379200@www.utvecklingspartiet.se
SUMMARY:Öppet månadsmöte 18–20 i Stadshuset. Välkomna!
DESCRIPTION:
URL:https://www.utvecklingspartiet.se/event/oppet-manadsmote-18-20-i-stadshuset-valkomna-10/
END:VEVENT
BEGIN:VEVENT
DTSTART;TZID=Europe/Stockholm:20191011T090000
DTEND;TZID=Europe/Stockholm:20191011T170000
DTSTAMP:20260421T033630
CREATED:20190114T203934Z
LAST-MODIFIED:20190114T203934Z
UID:1776-1570784400-1570813200@www.utvecklingspartiet.se
SUMMARY:KS
DESCRIPTION:
URL:https://www.utvecklingspartiet.se/event/ks-26/
END:VEVENT
BEGIN:VEVENT
DTSTART;TZID=Europe/Stockholm:20191003T170000
DTEND;TZID=Europe/Stockholm:20191003T210000
DTSTAMP:20260421T033630
CREATED:20190114T203232Z
LAST-MODIFIED:20190114T203232Z
UID:1750-1570122000-1570136400@www.utvecklingspartiet.se
SUMMARY:KF
DESCRIPTION:
URL:https://www.utvecklingspartiet.se/event/kf-16/
END:VEVENT
BEGIN:VEVENT
DTSTART;TZID=Europe/Stockholm:20190925T090000
DTEND;TZID=Europe/Stockholm:20190925T170000
DTSTAMP:20260421T033630
CREATED:20190114T203902Z
LAST-MODIFIED:20190114T203902Z
UID:1774-1569402000-1569430800@www.utvecklingspartiet.se
SUMMARY:KS
DESCRIPTION:
URL:https://www.utvecklingspartiet.se/event/ks-25/
END:VEVENT
BEGIN:VEVENT
DTSTART;TZID=Europe/Stockholm:20190911T090000
DTEND;TZID=Europe/Stockholm:20190911T170000
DTSTAMP:20260421T033630
CREATED:20190114T203832Z
LAST-MODIFIED:20190114T203832Z
UID:1772-1568192400-1568221200@www.utvecklingspartiet.se
SUMMARY:KS
DESCRIPTION:
URL:https://www.utvecklingspartiet.se/event/ks-24/
END:VEVENT
BEGIN:VEVENT
DTSTART;TZID=Europe/Stockholm:20190905T170000
DTEND;TZID=Europe/Stockholm:20190905T200000
DTSTAMP:20260421T033630
CREATED:20190114T203151Z
LAST-MODIFIED:20190114T203151Z
UID:1748-1567702800-1567713600@www.utvecklingspartiet.se
SUMMARY:KF
DESCRIPTION:
URL:https://www.utvecklingspartiet.se/event/kf-15/
END:VEVENT
BEGIN:VEVENT
DTSTART;TZID=Europe/Stockholm:20190827T180000
DTEND;TZID=Europe/Stockholm:20190827T200000
DTSTAMP:20260421T033630
CREATED:20190130T173706Z
LAST-MODIFIED:20190130T173706Z
UID:1793-1566928800-1566936000@www.utvecklingspartiet.se
SUMMARY:Öppet månadsmöte 18–20 i Stadshuset. Välkomna!
DESCRIPTION:
URL:https://www.utvecklingspartiet.se/event/oppet-manadsmote-18-20-i-stadshuset-valkomna-8/
END:VEVENT
BEGIN:VEVENT
DTSTART;TZID=Europe/Stockholm:20190814T090000
DTEND;TZID=Europe/Stockholm:20190814T170000
DTSTAMP:20260421T033630
CREATED:20190114T203756Z
LAST-MODIFIED:20190114T203756Z
UID:1770-1565773200-1565802000@www.utvecklingspartiet.se
SUMMARY:KS
DESCRIPTION:
URL:https://www.utvecklingspartiet.se/event/ks-23/
END:VEVENT
BEGIN:VEVENT
DTSTART;TZID=Europe/Stockholm:20190619T090000
DTEND;TZID=Europe/Stockholm:20190619T170000
DTSTAMP:20260421T033630
CREATED:20190114T203721Z
LAST-MODIFIED:20190114T203721Z
UID:1768-1560934800-1560963600@www.utvecklingspartiet.se
SUMMARY:KS
DESCRIPTION:
URL:https://www.utvecklingspartiet.se/event/ks-22/
END:VEVENT
BEGIN:VEVENT
DTSTART;TZID=Europe/Stockholm:20190613T170000
DTEND;TZID=Europe/Stockholm:20190613T210000
DTSTAMP:20260421T033630
CREATED:20190114T203115Z
LAST-MODIFIED:20190114T203115Z
UID:1746-1560445200-1560459600@www.utvecklingspartiet.se
SUMMARY:KF
DESCRIPTION:
URL:https://www.utvecklingspartiet.se/event/kf-14/
END:VEVENT
BEGIN:VEVENT
DTSTART;TZID=Europe/Stockholm:20190605T090000
DTEND;TZID=Europe/Stockholm:20190605T170000
DTSTAMP:20260421T033630
CREATED:20190114T203646Z
LAST-MODIFIED:20190114T203646Z
UID:1766-1559725200-1559754000@www.utvecklingspartiet.se
SUMMARY:KS
DESCRIPTION:
URL:https://www.utvecklingspartiet.se/event/ks-21/
END:VEVENT
BEGIN:VEVENT
DTSTART;TZID=Europe/Stockholm:20190516T170000
DTEND;TZID=Europe/Stockholm:20190516T210000
DTSTAMP:20260421T033630
CREATED:20190114T203031Z
LAST-MODIFIED:20190114T203031Z
UID:1744-1558026000-1558040400@www.utvecklingspartiet.se
SUMMARY:KF
DESCRIPTION:
URL:https://www.utvecklingspartiet.se/event/kf-13/
END:VEVENT
BEGIN:VEVENT
DTSTART;TZID=Europe/Stockholm:20190508T090000
DTEND;TZID=Europe/Stockholm:20190508T170000
DTSTAMP:20260421T033630
CREATED:20190114T203613Z
LAST-MODIFIED:20190114T203613Z
UID:1764-1557306000-1557334800@www.utvecklingspartiet.se
SUMMARY:KS
DESCRIPTION:
URL:https://www.utvecklingspartiet.se/event/ks-20/
END:VEVENT
BEGIN:VEVENT
DTSTART;TZID=Europe/Stockholm:20190425T180000
DTEND;TZID=Europe/Stockholm:20190425T200000
DTSTAMP:20260421T033630
CREATED:20190130T173337Z
LAST-MODIFIED:20190330T090011Z
UID:1785-1556215200-1556222400@www.utvecklingspartiet.se
SUMMARY:Årsmöte 18.00 i Stadshuset
DESCRIPTION:
URL:https://www.utvecklingspartiet.se/event/arsmote-2/
LOCATION:Stadshuset
END:VEVENT
BEGIN:VEVENT
DTSTART;TZID=Europe/Stockholm:20190417T090000
DTEND;TZID=Europe/Stockholm:20190417T170000
DTSTAMP:20260421T033630
CREATED:20190114T203543Z
LAST-MODIFIED:20190114T203543Z
UID:1762-1555491600-1555520400@www.utvecklingspartiet.se
SUMMARY:KS
DESCRIPTION:
URL:https://www.utvecklingspartiet.se/event/ks-19/
END:VEVENT
BEGIN:VEVENT
DTSTART;TZID=Europe/Stockholm:20190326T180000
DTEND;TZID=Europe/Stockholm:20190326T200000
DTSTAMP:20260421T033630
CREATED:20190130T173544Z
LAST-MODIFIED:20190130T173544Z
UID:1789-1553623200-1553630400@www.utvecklingspartiet.se
SUMMARY:Öppet månadsmöte 18–20 i Stadshuset. Välkomna!
DESCRIPTION:
URL:https://www.utvecklingspartiet.se/event/oppet-manadsmote-18-20-i-stadshuset-valkomna-6/
END:VEVENT
BEGIN:VEVENT
DTSTART;TZID=Europe/Stockholm:20190320T090000
DTEND;TZID=Europe/Stockholm:20190320T170000
DTSTAMP:20260421T033630
CREATED:20190114T203509Z
LAST-MODIFIED:20190114T203509Z
UID:1760-1553072400-1553101200@www.utvecklingspartiet.se
SUMMARY:KS
DESCRIPTION:
URL:https://www.utvecklingspartiet.se/event/ks-18/
END:VEVENT
BEGIN:VEVENT
DTSTART;TZID=Europe/Stockholm:20190307T170000
DTEND;TZID=Europe/Stockholm:20190307T210000
DTSTAMP:20260421T033630
CREATED:20190114T202919Z
LAST-MODIFIED:20190114T202919Z
UID:1740-1551978000-1551992400@www.utvecklingspartiet.se
SUMMARY:KF
DESCRIPTION:
URL:https://www.utvecklingspartiet.se/event/kf-11/
END:VEVENT
BEGIN:VEVENT
DTSTART;TZID=Europe/Stockholm:20190226T180000
DTEND;TZID=Europe/Stockholm:20190226T200000
DTSTAMP:20260421T033630
CREATED:20190130T173510Z
LAST-MODIFIED:20190130T173510Z
UID:1787-1551204000-1551211200@www.utvecklingspartiet.se
SUMMARY:Öppet månadsmöte 18–20 i Stadshuset. Välkomna!
DESCRIPTION:
URL:https://www.utvecklingspartiet.se/event/oppet-manadsmote-18-20-i-stadshuset-valkomna-5/
END:VEVENT
BEGIN:VEVENT
DTSTART;TZID=Europe/Stockholm:20190220T090000
DTEND;TZID=Europe/Stockholm:20190220T170000
DTSTAMP:20260421T033630
CREATED:20190114T203442Z
LAST-MODIFIED:20190114T203442Z
UID:1758-1550653200-1550682000@www.utvecklingspartiet.se
SUMMARY:KS
DESCRIPTION:
URL:https://www.utvecklingspartiet.se/event/ks-17/
END:VEVENT
BEGIN:VEVENT
DTSTART;TZID=Europe/Stockholm:20190219T170000
DTEND;TZID=Europe/Stockholm:20190219T210000
DTSTAMP:20260421T033630
CREATED:20190114T202834Z
LAST-MODIFIED:20190114T202834Z
UID:1738-1550595600-1550610000@www.utvecklingspartiet.se
SUMMARY:KF
DESCRIPTION:
URL:https://www.utvecklingspartiet.se/event/kf-10/
END:VEVENT
BEGIN:VEVENT
DTSTART;TZID=Europe/Stockholm:20190129T180000
DTEND;TZID=Europe/Stockholm:20190129T200000
DTSTAMP:20260421T033630
CREATED:20190114T202436Z
LAST-MODIFIED:20190114T202436Z
UID:1736-1548784800-1548792000@www.utvecklingspartiet.se
SUMMARY:Öppet månadsmöte 18–20 i Stadshuset. Välkomna!
DESCRIPTION:
URL:https://www.utvecklingspartiet.se/event/oppet-manadsmote-18-20-i-stadshuset-valkomna-4/
END:VEVENT
BEGIN:VEVENT
DTSTART;TZID=Europe/Stockholm:20190109T090000
DTEND;TZID=Europe/Stockholm:20190109T170000
DTSTAMP:20260421T033630
CREATED:20190114T203411Z
LAST-MODIFIED:20190114T203411Z
UID:1756-1547024400-1547053200@www.utvecklingspartiet.se
SUMMARY:KS
DESCRIPTION:
URL:https://www.utvecklingspartiet.se/event/ks-16/
END:VEVENT
BEGIN:VEVENT
DTSTART;TZID=Europe/Stockholm:20181213T170000
DTEND;TZID=Europe/Stockholm:20181213T210000
DTSTAMP:20260421T033630
CREATED:20180222T214509Z
LAST-MODIFIED:20180222T214509Z
UID:611-1544720400-1544734800@www.utvecklingspartiet.se
SUMMARY:KF
DESCRIPTION:
URL:https://www.utvecklingspartiet.se/event/kf-8/
LOCATION:Stadshuset
END:VEVENT
BEGIN:VEVENT
DTSTART;TZID=Europe/Stockholm:20181212T090000
DTEND;TZID=Europe/Stockholm:20181212T170000
DTSTAMP:20260421T033630
CREATED:20180222T215655Z
LAST-MODIFIED:20180222T215655Z
UID:642-1544605200-1544634000@www.utvecklingspartiet.se
SUMMARY:KS
DESCRIPTION:
URL:https://www.utvecklingspartiet.se/event/ks-13/
LOCATION:Stadshuset
END:VEVENT
BEGIN:VEVENT
DTSTART;TZID=Europe/Stockholm:20181206T170000
DTEND;TZID=Europe/Stockholm:20181206T200000
DTSTAMP:20260421T033630
CREATED:20181010T101613Z
LAST-MODIFIED:20181010T101613Z
UID:1708-1544115600-1544126400@www.utvecklingspartiet.se
SUMMARY:KF inklusive personval för 2019-2022
DESCRIPTION:Samtliga personval till den nya politiska organisationen görs. Den nya organisationen träder i kraft den 1 januari 2019.
URL:https://www.utvecklingspartiet.se/event/kf-inklusive-personval-for-2019-2022/
LOCATION:Stadshuset
END:VEVENT
BEGIN:VEVENT
DTSTART;TZID=Europe/Stockholm:20181127T180000
DTEND;TZID=Europe/Stockholm:20181127T200000
DTSTAMP:20260421T033630
CREATED:20180405T131312Z
LAST-MODIFIED:20180405T131312Z
UID:1567-1543341600-1543348800@www.utvecklingspartiet.se
SUMMARY:Öppet månadsmöte 18–20 i Stadshuset. Välkomna!
DESCRIPTION:
URL:https://www.utvecklingspartiet.se/event/oppet-manadsmote-18-20-i-stadshuset-valkomna-3/
END:VEVENT
BEGIN:VEVENT
DTSTART;TZID=Europe/Stockholm:20181121T090000
DTEND;TZID=Europe/Stockholm:20181121T170000
DTSTAMP:20260421T033630
CREATED:20180222T215630Z
LAST-MODIFIED:20180222T215630Z
UID:640-1542790800-1542819600@www.utvecklingspartiet.se
SUMMARY:KS
DESCRIPTION:
URL:https://www.utvecklingspartiet.se/event/ks-12/
LOCATION:Stadshuset
END:VEVENT
END:VCALENDAR