BEGIN:VCALENDAR
VERSION:2.0
PRODID:-//Utvecklingspartiet - ECPv6.15.17.1//NONSGML v1.0//EN
CALSCALE:GREGORIAN
METHOD:PUBLISH
X-ORIGINAL-URL:https://www.utvecklingspartiet.se
X-WR-CALDESC:Händelser för Utvecklingspartiet
REFRESH-INTERVAL;VALUE=DURATION:PT1H
X-Robots-Tag:noindex
X-PUBLISHED-TTL:PT1H
BEGIN:VTIMEZONE
TZID:Europe/Stockholm
BEGIN:DAYLIGHT
TZOFFSETFROM:+0100
TZOFFSETTO:+0200
TZNAME:CEST
DTSTART:20170326T010000
END:DAYLIGHT
BEGIN:STANDARD
TZOFFSETFROM:+0200
TZOFFSETTO:+0100
TZNAME:CET
DTSTART:20171029T010000
END:STANDARD
BEGIN:DAYLIGHT
TZOFFSETFROM:+0100
TZOFFSETTO:+0200
TZNAME:CEST
DTSTART:20180325T010000
END:DAYLIGHT
BEGIN:STANDARD
TZOFFSETFROM:+0200
TZOFFSETTO:+0100
TZNAME:CET
DTSTART:20181028T010000
END:STANDARD
BEGIN:DAYLIGHT
TZOFFSETFROM:+0100
TZOFFSETTO:+0200
TZNAME:CEST
DTSTART:20190331T010000
END:DAYLIGHT
BEGIN:STANDARD
TZOFFSETFROM:+0200
TZOFFSETTO:+0100
TZNAME:CET
DTSTART:20191027T010000
END:STANDARD
END:VTIMEZONE
BEGIN:VEVENT
DTSTART;TZID=Europe/Stockholm:20180908T100000
DTEND;TZID=Europe/Stockholm:20180908T160000
DTSTAMP:20260421T103820
CREATED:20180804T123527Z
LAST-MODIFIED:20180804T123556Z
UID:1667-1536400800-1536422400@www.utvecklingspartiet.se
SUMMARY:Kungälvsmässan 10-16
DESCRIPTION:
URL:https://www.utvecklingspartiet.se/event/kungalvsmassan-3/
END:VEVENT
BEGIN:VEVENT
DTSTART;TZID=Europe/Stockholm:20180907T120000
DTEND;TZID=Europe/Stockholm:20180907T190000
DTSTAMP:20260421T103820
CREATED:20180804T123450Z
LAST-MODIFIED:20180804T123656Z
UID:1665-1536321600-1536346800@www.utvecklingspartiet.se
SUMMARY:Kungälvsmässan 12-19
DESCRIPTION:
URL:https://www.utvecklingspartiet.se/event/kungalvsmassan-2/
END:VEVENT
BEGIN:VEVENT
DTSTART;TZID=Europe/Stockholm:20180906T170000
DTEND;TZID=Europe/Stockholm:20180906T210000
DTSTAMP:20260421T103820
CREATED:20180222T214221Z
LAST-MODIFIED:20180222T214221Z
UID:604-1536253200-1536267600@www.utvecklingspartiet.se
SUMMARY:KF
DESCRIPTION:
URL:https://www.utvecklingspartiet.se/event/kf-5/
LOCATION:Stadshuset
END:VEVENT
BEGIN:VEVENT
DTSTART;TZID=Europe/Stockholm:20180906T120000
DTEND;TZID=Europe/Stockholm:20180906T120000
DTSTAMP:20260421T103820
CREATED:20180206T085108Z
LAST-MODIFIED:20180804T123628Z
UID:444-1536235200-1536235200@www.utvecklingspartiet.se
SUMMARY:Kungälvsmässan 12-18
DESCRIPTION:
URL:https://www.utvecklingspartiet.se/event/kungalvsmassan/
LOCATION:Mimers Hus
END:VEVENT
BEGIN:VEVENT
DTSTART;TZID=Europe/Stockholm:20180901T110000
DTEND;TZID=Europe/Stockholm:20180901T153000
DTSTAMP:20260421T103820
CREATED:20180804T123242Z
LAST-MODIFIED:20180804T123242Z
UID:1662-1535799600-1535815800@www.utvecklingspartiet.se
SUMMARY:Tältkampanj - Marstrand/Tjuvkil/Hålta 11-15.30
DESCRIPTION:
URL:https://www.utvecklingspartiet.se/event/taltkampanj-marstrand-tjuvkil-halta-11-15-30/
END:VEVENT
BEGIN:VEVENT
DTSTART;VALUE=DATE:20180901
DTEND;VALUE=DATE:20180902
DTSTAMP:20260421T103820
CREATED:20180221T231319Z
LAST-MODIFIED:20180221T231319Z
UID:578-1535760000-1535846399@www.utvecklingspartiet.se
SUMMARY:Fästning i rök
DESCRIPTION:
URL:https://www.utvecklingspartiet.se/event/fastning-i-rok/
LOCATION:Bohus Fästning
END:VEVENT
BEGIN:VEVENT
DTSTART;TZID=Europe/Stockholm:20180828T180000
DTEND;TZID=Europe/Stockholm:20180828T200000
DTSTAMP:20260421T103820
CREATED:20180206T084642Z
LAST-MODIFIED:20180206T084642Z
UID:434-1535479200-1535486400@www.utvecklingspartiet.se
SUMMARY:Öppet månadsmöte 18–20 i Stadshuset. Välkomna!
DESCRIPTION:
URL:https://www.utvecklingspartiet.se/event/oppet-manadsmote-7/
LOCATION:Stadshuset
END:VEVENT
BEGIN:VEVENT
DTSTART;TZID=Europe/Stockholm:20180825T110000
DTEND;TZID=Europe/Stockholm:20180825T153000
DTSTAMP:20260421T103820
CREATED:20180802T090815Z
LAST-MODIFIED:20180802T090815Z
UID:1658-1535194800-1535211000@www.utvecklingspartiet.se
SUMMARY:Tältkampanj - Kungälv 11-13 & Ytterby 13.30-15.30
DESCRIPTION:
URL:https://www.utvecklingspartiet.se/event/taltkampanj-kungalv-11-13-ytterby-13-30-15-30/
END:VEVENT
BEGIN:VEVENT
DTSTART;TZID=Europe/Stockholm:20180822T170000
DTEND;TZID=Europe/Stockholm:20180822T190000
DTSTAMP:20260421T103820
CREATED:20180823T163624Z
LAST-MODIFIED:20180823T163624Z
UID:1683-1534957200-1534964400@www.utvecklingspartiet.se
SUMMARY:Tältkampanj Kode 17-19!
DESCRIPTION:
URL:https://www.utvecklingspartiet.se/event/taltkampanj-kode-17-19/
END:VEVENT
BEGIN:VEVENT
DTSTART;VALUE=DATE:20180822
DTEND;VALUE=DATE:20180909
DTSTAMP:20260421T103820
CREATED:20180221T231535Z
LAST-MODIFIED:20180221T231535Z
UID:581-1534896000-1536451199@www.utvecklingspartiet.se
SUMMARY:Förtidsröstning
DESCRIPTION:
URL:https://www.utvecklingspartiet.se/event/fortidsrostning/
END:VEVENT
BEGIN:VEVENT
DTSTART;TZID=Europe/Stockholm:20180818T120000
DTEND;TZID=Europe/Stockholm:20180818T140000
DTSTAMP:20260421T103820
CREATED:20180802T090722Z
LAST-MODIFIED:20180816T202003Z
UID:1656-1534593600-1534600800@www.utvecklingspartiet.se
SUMMARY:Demokratidag i Västra Parken 12-14. VÄLKOMNA!
DESCRIPTION:
URL:https://www.utvecklingspartiet.se/event/taltkampanj-kode-11-13/
END:VEVENT
BEGIN:VEVENT
DTSTART;TZID=Europe/Stockholm:20180815T090000
DTEND;TZID=Europe/Stockholm:20180815T170000
DTSTAMP:20260421T103820
CREATED:20180222T215255Z
LAST-MODIFIED:20180222T215255Z
UID:629-1534323600-1534352400@www.utvecklingspartiet.se
SUMMARY:KS
DESCRIPTION:
URL:https://www.utvecklingspartiet.se/event/ks-7/
LOCATION:Stadshuset
END:VEVENT
BEGIN:VEVENT
DTSTART;TZID=Europe/Stockholm:20180811T110000
DTEND;TZID=Europe/Stockholm:20180811T153000
DTSTAMP:20260421T103820
CREATED:20180802T090420Z
LAST-MODIFIED:20180802T090420Z
UID:1654-1533985200-1534001400@www.utvecklingspartiet.se
SUMMARY:Tältkampanj - Diseröd 11-13 & Kareby 13.30-15.30
DESCRIPTION:
URL:https://www.utvecklingspartiet.se/event/taltkampanj-diserod-11-13-kareby-13-30-15-30/
END:VEVENT
BEGIN:VEVENT
DTSTART;TZID=Europe/Stockholm:20180809T180000
DTEND;TZID=Europe/Stockholm:20180809T200000
DTSTAMP:20260421T103820
CREATED:20180630T061933Z
LAST-MODIFIED:20180802T085747Z
UID:1646-1533837600-1533844800@www.utvecklingspartiet.se
SUMMARY:Valinfomöte/Kick-off  18-20 Stadshuset
DESCRIPTION:
URL:https://www.utvecklingspartiet.se/event/medlemsmote-up/
LOCATION:Stadshuset
END:VEVENT
BEGIN:VEVENT
DTSTART;TZID=Europe/Stockholm:20180804T110000
DTEND;TZID=Europe/Stockholm:20180804T153000
DTSTAMP:20260421T103820
CREATED:20180802T090225Z
LAST-MODIFIED:20180802T090225Z
UID:1652-1533380400-1533396600@www.utvecklingspartiet.se
SUMMARY:Tältkampanj - Kärna 11-13 & Kornhall 13.30-15.30
DESCRIPTION:
URL:https://www.utvecklingspartiet.se/event/taltkampanj-karna-11-13-kornhall-13-30-15-30/
END:VEVENT
BEGIN:VEVENT
DTSTART;VALUE=DATE:20180727
DTEND;VALUE=DATE:20180728
DTSTAMP:20260421T103820
CREATED:20180206T085004Z
LAST-MODIFIED:20180206T085004Z
UID:442-1532649600-1532735999@www.utvecklingspartiet.se
SUMMARY:Vikingamarknad
DESCRIPTION:
URL:https://www.utvecklingspartiet.se/event/vikingamarknad-2/
LOCATION:Kungälv
END:VEVENT
BEGIN:VEVENT
DTSTART;TZID=Europe/Stockholm:20180626T180000
DTEND;TZID=Europe/Stockholm:20180626T200000
DTSTAMP:20260421T103820
CREATED:20180206T084558Z
LAST-MODIFIED:20180206T084558Z
UID:430-1530036000-1530043200@www.utvecklingspartiet.se
SUMMARY:Öppet månadsmöte 18–20 i Stadshuset. Välkomna!
DESCRIPTION:
URL:https://www.utvecklingspartiet.se/event/oppet-manadsmote-5/
LOCATION:Stadshuset
END:VEVENT
BEGIN:VEVENT
DTSTART;TZID=Europe/Stockholm:20180620T090000
DTEND;TZID=Europe/Stockholm:20180620T170000
DTSTAMP:20260421T103820
CREATED:20180222T215217Z
LAST-MODIFIED:20180222T215217Z
UID:627-1529485200-1529514000@www.utvecklingspartiet.se
SUMMARY:KS
DESCRIPTION:
URL:https://www.utvecklingspartiet.se/event/ks-6/
LOCATION:Stadshuset
END:VEVENT
BEGIN:VEVENT
DTSTART;TZID=Europe/Stockholm:20180614T170000
DTEND;TZID=Europe/Stockholm:20180614T210000
DTSTAMP:20260421T103820
CREATED:20180222T214130Z
LAST-MODIFIED:20180222T214130Z
UID:602-1528995600-1529010000@www.utvecklingspartiet.se
SUMMARY:KF
DESCRIPTION:
URL:https://www.utvecklingspartiet.se/event/kf-4/
LOCATION:Stadshuset
END:VEVENT
BEGIN:VEVENT
DTSTART;TZID=Europe/Stockholm:20180605T090000
DTEND;TZID=Europe/Stockholm:20180605T170000
DTSTAMP:20260421T103820
CREATED:20180222T215142Z
LAST-MODIFIED:20180222T215142Z
UID:625-1528189200-1528218000@www.utvecklingspartiet.se
SUMMARY:KS
DESCRIPTION:
URL:https://www.utvecklingspartiet.se/event/ks-5/
LOCATION:Stadshuset
END:VEVENT
BEGIN:VEVENT
DTSTART;TZID=Europe/Stockholm:20180529T180000
DTEND;TZID=Europe/Stockholm:20180529T200000
DTSTAMP:20260421T103820
CREATED:20180206T084532Z
LAST-MODIFIED:20180206T084532Z
UID:428-1527616800-1527624000@www.utvecklingspartiet.se
SUMMARY:Öppet månadsmöte 18–20 i Stadshuset. Välkomna!
DESCRIPTION:
URL:https://www.utvecklingspartiet.se/event/oppet-manadsmote-4/
LOCATION:Stadshuset
END:VEVENT
BEGIN:VEVENT
DTSTART;TZID=Europe/Stockholm:20180523T090000
DTEND;TZID=Europe/Stockholm:20180523T170000
DTSTAMP:20260421T103820
CREATED:20180222T215106Z
LAST-MODIFIED:20180222T215106Z
UID:623-1527066000-1527094800@www.utvecklingspartiet.se
SUMMARY:KS
DESCRIPTION:
URL:https://www.utvecklingspartiet.se/event/ks-4/
LOCATION:Stadshuset
END:VEVENT
BEGIN:VEVENT
DTSTART;TZID=Europe/Stockholm:20180517T170000
DTEND;TZID=Europe/Stockholm:20180517T210000
DTSTAMP:20260421T103820
CREATED:20180222T214046Z
LAST-MODIFIED:20180222T214046Z
UID:600-1526576400-1526590800@www.utvecklingspartiet.se
SUMMARY:KF
DESCRIPTION:
URL:https://www.utvecklingspartiet.se/event/kf-3/
LOCATION:Stadshuset
END:VEVENT
BEGIN:VEVENT
DTSTART;TZID=Europe/Stockholm:20180509T090000
DTEND;TZID=Europe/Stockholm:20180509T170000
DTSTAMP:20260421T103820
CREATED:20180222T215023Z
LAST-MODIFIED:20180222T215023Z
UID:620-1525856400-1525885200@www.utvecklingspartiet.se
SUMMARY:KS
DESCRIPTION:
URL:https://www.utvecklingspartiet.se/event/ks-3/
LOCATION:Stadshuset
END:VEVENT
BEGIN:VEVENT
DTSTART;VALUE=DATE:20180427
DTEND;VALUE=DATE:20180428
DTSTAMP:20260421T103820
CREATED:20180206T084936Z
LAST-MODIFIED:20180206T084936Z
UID:439-1524787200-1524873599@www.utvecklingspartiet.se
SUMMARY:Vikingamarknad
DESCRIPTION:
URL:https://www.utvecklingspartiet.se/event/vikingamarknad/
LOCATION:Kungälv
END:VEVENT
BEGIN:VEVENT
DTSTART;TZID=Europe/Stockholm:20180424T180000
DTEND;TZID=Europe/Stockholm:20180424T200000
DTSTAMP:20260421T103820
CREATED:20180206T084509Z
LAST-MODIFIED:20180206T084509Z
UID:426-1524592800-1524600000@www.utvecklingspartiet.se
SUMMARY:Öppet månadsmöte 18–20 i Stadshuset. Välkomna!
DESCRIPTION:
URL:https://www.utvecklingspartiet.se/event/oppet-manadsmote-3/
LOCATION:Stadshuset
END:VEVENT
BEGIN:VEVENT
DTSTART;TZID=Europe/Stockholm:20180418T090000
DTEND;TZID=Europe/Stockholm:20180418T170000
DTSTAMP:20260421T103820
CREATED:20180222T214848Z
LAST-MODIFIED:20180222T214848Z
UID:618-1524042000-1524070800@www.utvecklingspartiet.se
SUMMARY:KS
DESCRIPTION:
URL:https://www.utvecklingspartiet.se/event/ks-2/
LOCATION:Stadshuset
END:VEVENT
BEGIN:VEVENT
DTSTART;TZID=Europe/Stockholm:20180412T170000
DTEND;TZID=Europe/Stockholm:20180412T210000
DTSTAMP:20260421T103820
CREATED:20180222T214010Z
LAST-MODIFIED:20180222T214010Z
UID:598-1523552400-1523566800@www.utvecklingspartiet.se
SUMMARY:KF
DESCRIPTION:
URL:https://www.utvecklingspartiet.se/event/kf-2/
LOCATION:Stadshuset
END:VEVENT
BEGIN:VEVENT
DTSTART;TZID=Europe/Stockholm:20180327T180000
DTEND;TZID=Europe/Stockholm:20180327T200000
DTSTAMP:20260421T103820
CREATED:20180206T084444Z
LAST-MODIFIED:20180206T084444Z
UID:424-1522173600-1522180800@www.utvecklingspartiet.se
SUMMARY:Öppet månadsmöte 18–20 i Stadshuset. Välkomna!
DESCRIPTION:
URL:https://www.utvecklingspartiet.se/event/oppet-manadsmote-2/
LOCATION:Stadshuset
END:VEVENT
BEGIN:VEVENT
DTSTART;TZID=Europe/Stockholm:20180321T090000
DTEND;TZID=Europe/Stockholm:20180321T170000
DTSTAMP:20260421T103820
CREATED:20180222T214812Z
LAST-MODIFIED:20180222T214812Z
UID:614-1521622800-1521651600@www.utvecklingspartiet.se
SUMMARY:KS
DESCRIPTION:
URL:https://www.utvecklingspartiet.se/event/ks/
LOCATION:Stadshuset
END:VEVENT
END:VCALENDAR