BEGIN:VCALENDAR
VERSION:2.0
PRODID:-//Utvecklingspartiet - ECPv6.15.17.1//NONSGML v1.0//EN
CALSCALE:GREGORIAN
METHOD:PUBLISH
X-ORIGINAL-URL:https://www.utvecklingspartiet.se
X-WR-CALDESC:Händelser för Utvecklingspartiet
REFRESH-INTERVAL;VALUE=DURATION:PT1H
X-Robots-Tag:noindex
X-PUBLISHED-TTL:PT1H
BEGIN:VTIMEZONE
TZID:Europe/Stockholm
BEGIN:DAYLIGHT
TZOFFSETFROM:+0100
TZOFFSETTO:+0200
TZNAME:CEST
DTSTART:20250330T010000
END:DAYLIGHT
BEGIN:STANDARD
TZOFFSETFROM:+0200
TZOFFSETTO:+0100
TZNAME:CET
DTSTART:20251026T010000
END:STANDARD
BEGIN:DAYLIGHT
TZOFFSETFROM:+0100
TZOFFSETTO:+0200
TZNAME:CEST
DTSTART:20260329T010000
END:DAYLIGHT
BEGIN:STANDARD
TZOFFSETFROM:+0200
TZOFFSETTO:+0100
TZNAME:CET
DTSTART:20261025T010000
END:STANDARD
BEGIN:DAYLIGHT
TZOFFSETFROM:+0100
TZOFFSETTO:+0200
TZNAME:CEST
DTSTART:20270328T010000
END:DAYLIGHT
BEGIN:STANDARD
TZOFFSETFROM:+0200
TZOFFSETTO:+0100
TZNAME:CET
DTSTART:20271031T010000
END:STANDARD
END:VTIMEZONE
BEGIN:VEVENT
DTSTART;TZID=Europe/Stockholm:20260425T100000
DTEND;TZID=Europe/Stockholm:20260425T170000
DTSTAMP:20260424T154634
CREATED:20260421T101401Z
LAST-MODIFIED:20260421T101401Z
UID:2700-1777111200-1777136400@www.utvecklingspartiet.se
SUMMARY:Kungälvs Barnfestival
DESCRIPTION:
URL:https://www.utvecklingspartiet.se/event/kungalvs-barnfestival/
LOCATION:Älvparken\, Västra Strandgatan\, Kungälv\, 44243\, Sweden
CATEGORIES:Val 2026
END:VEVENT
BEGIN:VEVENT
DTSTART;TZID=Europe/Stockholm:20260426T100000
DTEND;TZID=Europe/Stockholm:20260426T150000
DTSTAMP:20260424T154634
CREATED:20260421T103518Z
LAST-MODIFIED:20260421T103518Z
UID:2703-1777197600-1777215600@www.utvecklingspartiet.se
SUMMARY:Kungälvs Barnfestival
DESCRIPTION:
URL:https://www.utvecklingspartiet.se/event/kungalvs-barnfestival-2/
LOCATION:Älvparken\, Västra Strandgatan\, Kungälv\, 44243\, Sweden
CATEGORIES:Val 2026
END:VEVENT
END:VCALENDAR